BEGIN:VCALENDAR
VERSION:2.0
PRODID:spatie/icalendar-generator
DESCRIPTION:Events from Cannon River Outdoors Club
X-WR-CALDESC:Events from Cannon River Outdoors Club
REFRESH-INTERVAL;VALUE=DURATION:PT1440M
X-PUBLISHED-TTL:PT1440M
BEGIN:VTIMEZONE
TZID:America/Chicago
BEGIN:STANDARD
DTSTART:20241103T020000Z
TZOFFSETFROM:-0500
TZOFFSETTO:-0600
END:STANDARD
BEGIN:DAYLIGHT
DTSTART:20250309T020000Z
TZOFFSETFROM:-0600
TZOFFSETTO:-0500
END:DAYLIGHT
BEGIN:STANDARD
DTSTART:20251102T020000Z
TZOFFSETFROM:-0500
TZOFFSETTO:-0600
END:STANDARD
END:VTIMEZONE
BEGIN:VTIMEZONE
TZID:UTC
BEGIN:STANDARD
DTSTART:20250724T145149Z
TZOFFSETFROM:+0000
TZOFFSETTO:+0000
END:STANDARD
END:VTIMEZONE
BEGIN:VEVENT
UID:12-11
DTSTAMP:20260420T145149Z
SUMMARY:NHS Bass Team Event
LOCATION:
ORGANIZER;CN=LizCROC:MAILTO:liz.beckius@gmail.com
DTSTART;TZID=America/Chicago;VALUE=DATE:20250609
DTEND;TZID=America/Chicago;VALUE=DATE:20250610
X-ALT-DESC;FMTTYPE=TEXT/HTML:JUNE 9 Mississippi River Pools 7 and 8 (I-90 l
 anding) (7am-2pm)
CATEGORIES:NHS Fishing Team
URL;VALUE=URI:https://cannonriveroutdoorsclub.com/mc-events/nhs-bass-team-e
 vent
METHOD:PUBLISH
END:VEVENT
END:VCALENDAR