BEGIN:VCALENDAR
VERSION:2.0
PRODID:spatie/icalendar-generator
DESCRIPTION:Events from Cannon River Outdoors Club
X-WR-CALDESC:Events from Cannon River Outdoors Club
REFRESH-INTERVAL;VALUE=DURATION:PT1440M
X-PUBLISHED-TTL:PT1440M
BEGIN:VTIMEZONE
TZID:America/Chicago
BEGIN:STANDARD
DTSTART:20241103T020000Z
TZOFFSETFROM:-0500
TZOFFSETTO:-0600
END:STANDARD
BEGIN:DAYLIGHT
DTSTART:20250309T020000Z
TZOFFSETFROM:-0600
TZOFFSETTO:-0500
END:DAYLIGHT
BEGIN:STANDARD
DTSTART:20251102T020000Z
TZOFFSETFROM:-0500
TZOFFSETTO:-0600
END:STANDARD
END:VTIMEZONE
BEGIN:VTIMEZONE
TZID:UTC
BEGIN:STANDARD
DTSTART:20250724T083535Z
TZOFFSETFROM:+0000
TZOFFSETTO:+0000
END:STANDARD
END:VTIMEZONE
BEGIN:VEVENT
UID:13-12
DTSTAMP:20260420T083535Z
SUMMARY:NHS Bass Team Event
LOCATION:
ORGANIZER;CN=LizCROC:MAILTO:liz.beckius@gmail.com
DTSTART;TZID=America/Chicago;VALUE=DATE:20250714
DTEND;TZID=America/Chicago;VALUE=DATE:20250715
X-ALT-DESC;FMTTYPE=TEXT/HTML:JULY 14 St. Croix River  (St. Croix Bluffs Re
 gional Park) (7am-2pm)
CATEGORIES:NHS Fishing Team
URL;VALUE=URI:https://cannonriveroutdoorsclub.com/mc-events/nhs-bass-team-e
 vent-2
METHOD:PUBLISH
END:VEVENT
END:VCALENDAR